BEGIN:VCALENDAR
VERSION:2.0
PRODID:-//Sufi Center Minnesota - ECPv6.15.18//NONSGML v1.0//EN
CALSCALE:GREGORIAN
METHOD:PUBLISH
X-ORIGINAL-URL:https://suficentermn.org
X-WR-CALDESC:Events for Sufi Center Minnesota
REFRESH-INTERVAL;VALUE=DURATION:PT1H
X-Robots-Tag:noindex
X-PUBLISHED-TTL:PT1H
BEGIN:VTIMEZONE
TZID:America/Chicago
BEGIN:DAYLIGHT
TZOFFSETFROM:-0600
TZOFFSETTO:-0500
TZNAME:CDT
DTSTART:20250309T080000
END:DAYLIGHT
BEGIN:STANDARD
TZOFFSETFROM:-0500
TZOFFSETTO:-0600
TZNAME:CST
DTSTART:20251102T070000
END:STANDARD
BEGIN:DAYLIGHT
TZOFFSETFROM:-0600
TZOFFSETTO:-0500
TZNAME:CDT
DTSTART:20260308T080000
END:DAYLIGHT
BEGIN:STANDARD
TZOFFSETFROM:-0500
TZOFFSETTO:-0600
TZNAME:CST
DTSTART:20261101T070000
END:STANDARD
BEGIN:DAYLIGHT
TZOFFSETFROM:-0600
TZOFFSETTO:-0500
TZNAME:CDT
DTSTART:20270314T080000
END:DAYLIGHT
BEGIN:STANDARD
TZOFFSETFROM:-0500
TZOFFSETTO:-0600
TZNAME:CST
DTSTART:20271107T070000
END:STANDARD
END:VTIMEZONE
BEGIN:VEVENT
DTSTART;TZID=America/Chicago:20260705T160000
DTEND;TZID=America/Chicago:20260705T170000
DTSTAMP:20260422T123432
CREATED:20250102T195840Z
LAST-MODIFIED:20250102T195942Z
UID:10003621-1783267200-1783270800@suficentermn.org
SUMMARY:Community Connection Day
DESCRIPTION:Community Connection Day				\n				\n				\n				\n					Please note that this class and the following healing circle (dhikr) are only available by Zoom (online and by phone).				\n				\n				\n				\n									On the 1st Sunday of every month the Sufi Center invites teachers from around the country and the world to offer wisdom and insights about a variety of spiritual subjects. Using state-of-the-art video conferencing technology at the Center we experience and interact with these beautiful teachers and teachings every month. A national teacher joins us from 4:00-5:00pm Central Time and we follow with a healing circle (dhikr). Teachings are available by Zoom live at the center or from your own home. Recordings of each class are available on our Videos Page. 								\n				\n				\n				\n									Event DetailsWhen: 4:00-5:00pm on the 1st Sunday of the month and is followed by a healing circle at 5pm.Where: Online via ZoomCost: FREE\, heart-centered donations appreciated.How to Join: Please fill in the form on this page so that we know who is attending our events. Or if you are an existing Community Member then we have listed the information on our Community Page.For more information: Contact Abdullah Pat Aylward at 612-414-3317 or info@suficentermn.org. 								\n				\n				\n				\n					Request To Attend Community Connection Day				\n				\n				\n				\n					\n	\n\n                \n                        \n							"*" indicates required fields \n                        \n                        CompanyThis field is for validation purposes and should be left unchanged.Name*\n                            \n                            \n                                                    \n                                                    First\n                                                \n                            \n                            \n                                                    \n                                                    Last\n                                                \n                            \n                        Sufi NameEmail*\n                            \n                        Best Phone Number*Location*    \n                    \n                        \n                                    \n                                    City\n                                 \n                                    \n                                    ZIP / Postal Code\n                                \n                                        AfghanistanAlbaniaAlgeriaAmerican SamoaAndorraAngolaAnguillaAntarcticaAntigua and BarbudaArgentinaArmeniaArubaAustraliaAustriaAzerbaijanBahamasBahrainBangladeshBarbadosBelarusBelgiumBelizeBeninBermudaBhutanBoliviaBonaire\, Sint Eustatius and SabaBosnia and HerzegovinaBotswanaBouvet IslandBrazilBritish Indian Ocean TerritoryBrunei DarussalamBulgariaBurkina FasoBurundiCabo VerdeCambodiaCameroonCanadaCayman IslandsCentral African RepublicChadChileChinaChristmas IslandCocos IslandsColombiaComorosCongoCongo\, Democratic Republic of theCook IslandsCosta RicaCroatiaCubaCuraçaoCyprusCzechiaCôte d'IvoireDenmarkDjiboutiDominicaDominican RepublicEcuadorEgyptEl SalvadorEquatorial GuineaEritreaEstoniaEswatiniEthiopiaFalkland IslandsFaroe IslandsFijiFinlandFranceFrench GuianaFrench PolynesiaFrench Southern TerritoriesGabonGambiaGeorgiaGermanyGhanaGibraltarGreeceGreenlandGrenadaGuadeloupeGuamGuatemalaGuernseyGuineaGuinea-BissauGuyanaHaitiHeard Island and McDonald IslandsHoly SeeHondurasHong KongHungaryIcelandIndiaIndonesiaIranIraqIrelandIsle of ManIsraelItalyJamaicaJapanJerseyJordanKazakhstanKenyaKiribatiKorea\, Democratic People's Republic ofKorea\, Republic ofKuwaitKyrgyzstanLao People's Democratic RepublicLatviaLebanonLesothoLiberiaLibyaLiechtensteinLithuaniaLuxembourgMacaoMadagascarMalawiMalaysiaMaldivesMaliMaltaMarshall IslandsMartiniqueMauritaniaMauritiusMayotteMexicoMicronesiaMoldovaMonacoMongoliaMontenegroMontserratMoroccoMozambiqueMyanmarNamibiaNauruNepalNetherlandsNew CaledoniaNew ZealandNicaraguaNigerNigeriaNiueNorfolk IslandNorth MacedoniaNorthern Mariana IslandsNorwayOmanPakistanPalauPalestine\, State ofPanamaPapua New GuineaParaguayPeruPhilippinesPitcairnPolandPortugalPuerto RicoQatarRomaniaRussian FederationRwandaRéunionSaint BarthélemySaint Helena\, Ascension and Tristan da CunhaSaint Kitts and NevisSaint LuciaSaint MartinSaint Pierre and MiquelonSaint Vincent and the GrenadinesSamoaSan MarinoSao Tome and PrincipeSaudi ArabiaSenegalSerbiaSeychellesSierra LeoneSingaporeSint MaartenSlovakiaSloveniaSolomon IslandsSomaliaSouth AfricaSouth Georgia and the South Sandwich IslandsSouth SudanSpainSri LankaSudanSurinameSvalbard and Jan MayenSwedenSwitzerlandSyria Arab RepublicTaiwanTajikistanTanzania\, the United Republic ofThailandTimor-LesteTogoTokelauTongaTrinidad and TobagoTunisiaTurkmenistanTurks and Caicos IslandsTuvaluTürkiyeUS Minor Outlying IslandsUgandaUkraineUnited Arab EmiratesUnited KingdomUnited StatesUruguayUzbekistanVanuatuVenezuelaViet NamVirgin Islands\, BritishVirgin Islands\, U.S.Wallis and FutunaWestern SaharaYemenZambiaZimbabweÅland Islands\n                                        Country\n                                    \n                    \n                Would you like to make a donation?*\n			\n					\n					Yes\n			\n			\n					\n					No Thanks\n			Donation Amount\n					\n				Total\n							\n						You can pay with PayPal or a Credit Card via PayPal.How or from whom did you hear about us?*CAPTCHA\n          \n            \n            \n            \n            \n            \n            \n            \n            \n            \n            \n            \n            \n            \n        \n                        Δ
URL:https://suficentermn.org/event/community-connection-day/2026-07-05/
LOCATION:Online Zoom\, MN\, United States
CATEGORIES:Live Events,Ongoing Events,Online Event
ATTACH;FMTTYPE=image/jpeg:https://suficentermn.org/wp-content/uploads/2017/08/Sufi-MN-Community-Connection-Day.jpg
ORGANIZER;CN="Pat Abdullah Aylward":MAILTO:pataylward@earthlink.net
END:VEVENT
BEGIN:VEVENT
DTSTART;TZID=America/Chicago:20260705T170000
DTEND;TZID=America/Chicago:20260705T174500
DTSTAMP:20260422T123433
CREATED:20250506T010202Z
LAST-MODIFIED:20250506T010202Z
UID:10004937-1783270800-1783273500@suficentermn.org
SUMMARY:Dhikr
DESCRIPTION:Sufi Healing Circle (dhikr)				\n				\n				\n				\n									A Sufi healing circle\, also known as dhikr (or zikr) is a time when we gather as a community to Remember the Divine within. In dhikr\, we invoke the light of God and allow it to open\, clean and heal our body\, mind\, heart and spirit. Everyone is welcome to join these community prayer and healing events and stay for tea afterward. 								\n				\n					\n		\n					\n		\n				\n						\n					\n			\n						\n				\n									Event DetailsWhen: 5:00-5:45pm Central Time every SundayWhere: Online via ZoomCost: FREEHow to Join: Please fill in the form on this page so that we know who is attending our events. Or if you are an existing Community Member then we have listed the information on our community page.For more information: Email us at info@suficentermn.org. 								\n				\n					\n		\n				\n			\n						\n				\n					Request to attend Sufi Healing Circle (Dhikr)				\n				\n				\n				\n					\n	\n                \n                        LinkedInThis field is for validation purposes and should be left unchanged.Name*\n                            \n                            \n                                                    \n                                                    First\n                                                \n                            \n                            \n                                                    \n                                                    Last\n                                                \n                            \n                        Email*\n                            \n                        How or from whom did you hear about us?*CAPTCHA\n          \n            \n            \n            \n            \n            \n            \n            \n            \n            \n            \n            \n            \n            \n        \n                        Δ
URL:https://suficentermn.org/event/dhikr/2026-07-05/
LOCATION:Online Zoom\, MN\, United States
ATTACH;FMTTYPE=image/jpeg:https://suficentermn.org/wp-content/uploads/2020/08/Hands-together-praying-in-brig2.jpg
END:VEVENT
BEGIN:VEVENT
DTSTART;TZID=America/Chicago:20260706T100000
DTEND;TZID=America/Chicago:20260706T110000
DTSTAMP:20260422T123433
CREATED:20241113T222324Z
LAST-MODIFIED:20241113T222424Z
UID:10006142-1783332000-1783335600@suficentermn.org
SUMMARY:A Drop of the Love
DESCRIPTION:Join us weekly for A Drop of the Love with Cindy Yasmine Rahmana Libman.\nEvery Monday from 10am – 11am Central Time \nIf you have any questions\, please email Habiba Laila at administration@suficentermn.org. We are here to be of service. \nHere is the Zoom information: \nhttps://us06web.zoom.us/j/83221097720?pwd=gWflGt6WHcy23OqjSRWljd6DzEdaBE.1\nMeeting ID: 832 2109 7720\nPasscode: 494287
URL:https://suficentermn.org/event/a-drop-of-the-love/2026-07-06/
LOCATION:Online Zoom\, MN\, United States
CATEGORIES:Ongoing Events,Online Event
ATTACH;FMTTYPE=image/jpeg:https://suficentermn.org/wp-content/uploads/2024/11/Banner-A-Drop-of-Love.jpg
ORGANIZER;CN="Cindy Yasmine Libman":MAILTO:cindylib2@aol.com
END:VEVENT
BEGIN:VEVENT
DTSTART;TZID=America/Chicago:20260706T130000
DTEND;TZID=America/Chicago:20260706T133000
DTSTAMP:20260422T123433
CREATED:20250506T004508Z
LAST-MODIFIED:20250506T005035Z
UID:10006388-1783342800-1783344600@suficentermn.org
SUMMARY:Prayer Circle
DESCRIPTION:Join us as we send our prayers for ourselves\, our loved ones\, our community and the world. \nZoom Information \nJoin Zoom Meeting\nhttps://us06web.zoom.us/j/5467581286?pwd=WHRTMG1nR3kwZloxanh0clA3WFNIQT09&omn=86092837589 \nMeeting ID: 546 758 1286\nPasscode: 64001
URL:https://suficentermn.org/event/prayer-circle/2026-07-06/
LOCATION:Online Zoom\, MN\, United States
CATEGORIES:Live Events,Ongoing Events,Online Event
ATTACH;FMTTYPE=image/jpeg:https://suficentermn.org/wp-content/uploads/2025/05/prayer-circle-SCMN.jpeg
ORGANIZER;CN="Rahma Kate Nielsen":MAILTO:nielsen2420@gmail.com
END:VEVENT
BEGIN:VEVENT
DTSTART;TZID=America/Chicago:20260709T130000
DTEND;TZID=America/Chicago:20260709T140000
DTSTAMP:20260422T123433
CREATED:20251126T235404Z
LAST-MODIFIED:20251126T235404Z
UID:10005633-1783602000-1783605600@suficentermn.org
SUMMARY:Divine Qualities Series
DESCRIPTION:In our journey to God and in healing the places that keep us from knowing the fullness of who we are\, we may find we need the help of specific Divine Qualities or lights. These lights or Divine Names/Qualities can both strengthen us\, as well as soften the deep\, unconscious patterns and beliefs that block the manifestation of our true selves.				\n				\n				\n				\n									Thursdays from 1pm – 2pm pm\, Central Time\, starting December 4.								\n				\n				\n				\n									\n					\n						\n									Register to Join\n					\n					\n				\n								\n				\n				\n						\n					\n			\n						\n				\n					About the Course				\n				\n				\n				\n									We will be studying the Attributes of Allah from the book —Divine Names— The 99 Healing Names of the One Love written by Rosina-Fawzia Al Rawi . This book is widely available. She may also may quote other Quality books as we go deeper. In the new class on the Divine Names\, Maryam Shamsa Jennie Woodard will teach and guide us through these essential divine qualities and help us uncover the Divine essence within us. The class format includes: time to more deeply connect with the Divine and our own heartsreading about the Divine Namesreceiving the energetic transmission of each quality and reciting ita forgiveness practice that returns our human/ego qualities and replaces them with the Divine Qualitiesabsorbing\, merging\, and becoming the QualitiesThe plan is to study for 52 weeks\, allowing for some breaks to make room for life. It may be more realistic to say we will complete the Names in 60 weeks. 								\n				\n					\n		\n				\n			\n						\n				\n					About the Teacher				\n				\n				\n				\n					Maryam Shamsa Jennie Woodard				\n				\n				\n				\n									Maryam Shamsa’s heart was awakened with love\, peace and well being when she learned the Sufi practice of Remembrance in 2003. In 2005 she began attending classes in the University of Spiritual Healing and has been a student of Sufism since. Maryam is currently a teacher for the Institute of Spiritual Healing and a Master Healer.She finds very little more gratifying than sitting with another person in their inner landscape and looking where God is at every turn:“If I can help you open the places where you stop yourself from receiving the Light and Love that the Divine has just for you\, then we will have done something. Love is everything.” Maryam is a wife\, mother and grandmother. She gardens and watches the beauty of the world around her. 								\n				\n					\n		\n					\n		\n				\n				\n									Event DetailsWhen: 1:00 pm-2:00 pm Central Time Thursdays starting December 4th.Initial Dates: • December 4th\, 11th\, 18th\, No Class on 25th• January 8th\,15th\, 22nd\, and 29thWhere: Online via ZoomCost: FREE\, heart-centered donations appreciated.Ongoing Enrollment: Enrollment/registration is ongoing\, so you can join anytime for as long as the class continues.How to Join:  Fill in the form on this page so that we know who is attending our events. All who register will receive a weekly reminder with the Zoom link along with a follow up message with the link to each week’s class recordingFor more information: Contact administration@suficentermn.org. 								\n				\n				\n				\n							\n						\n				\n				\n				\n					Request To Attend This Class				\n				\n				\n				\n					\n	\n                \n                        \n							"*" indicates required fields \n                        \n                        EmailThis field is for validation purposes and should be left unchanged.Name*\n                            \n                            \n                                                    \n                                                    First\n                                                \n                            \n                            \n                                                    \n                                                    Last\n                                                \n                            \n                        Sufi NameEmail*\n                            \n                        Best Phone Number*Location*    \n                    \n                        \n                                    \n                                    City\n                                 \n                                    \n                                    ZIP / Postal Code\n                                \n                                        AfghanistanAlbaniaAlgeriaAmerican SamoaAndorraAngolaAnguillaAntarcticaAntigua and BarbudaArgentinaArmeniaArubaAustraliaAustriaAzerbaijanBahamasBahrainBangladeshBarbadosBelarusBelgiumBelizeBeninBermudaBhutanBoliviaBonaire\, Sint Eustatius and SabaBosnia and HerzegovinaBotswanaBouvet IslandBrazilBritish Indian Ocean TerritoryBrunei DarussalamBulgariaBurkina FasoBurundiCabo VerdeCambodiaCameroonCanadaCayman IslandsCentral African RepublicChadChileChinaChristmas IslandCocos IslandsColombiaComorosCongoCongo\, Democratic Republic of theCook IslandsCosta RicaCroatiaCubaCuraçaoCyprusCzechiaCôte d'IvoireDenmarkDjiboutiDominicaDominican RepublicEcuadorEgyptEl SalvadorEquatorial GuineaEritreaEstoniaEswatiniEthiopiaFalkland IslandsFaroe IslandsFijiFinlandFranceFrench GuianaFrench PolynesiaFrench Southern TerritoriesGabonGambiaGeorgiaGermanyGhanaGibraltarGreeceGreenlandGrenadaGuadeloupeGuamGuatemalaGuernseyGuineaGuinea-BissauGuyanaHaitiHeard Island and McDonald IslandsHoly SeeHondurasHong KongHungaryIcelandIndiaIndonesiaIranIraqIrelandIsle of ManIsraelItalyJamaicaJapanJerseyJordanKazakhstanKenyaKiribatiKorea\, Democratic People's Republic ofKorea\, Republic ofKuwaitKyrgyzstanLao People's Democratic RepublicLatviaLebanonLesothoLiberiaLibyaLiechtensteinLithuaniaLuxembourgMacaoMadagascarMalawiMalaysiaMaldivesMaliMaltaMarshall IslandsMartiniqueMauritaniaMauritiusMayotteMexicoMicronesiaMoldovaMonacoMongoliaMontenegroMontserratMoroccoMozambiqueMyanmarNamibiaNauruNepalNetherlandsNew CaledoniaNew ZealandNicaraguaNigerNigeriaNiueNorfolk IslandNorth MacedoniaNorthern Mariana IslandsNorwayOmanPakistanPalauPalestine\, State ofPanamaPapua New GuineaParaguayPeruPhilippinesPitcairnPolandPortugalPuerto RicoQatarRomaniaRussian FederationRwandaRéunionSaint BarthélemySaint Helena\, Ascension and Tristan da CunhaSaint Kitts and NevisSaint LuciaSaint MartinSaint Pierre and MiquelonSaint Vincent and the GrenadinesSamoaSan MarinoSao Tome and PrincipeSaudi ArabiaSenegalSerbiaSeychellesSierra LeoneSingaporeSint MaartenSlovakiaSloveniaSolomon IslandsSomaliaSouth AfricaSouth Georgia and the South Sandwich IslandsSouth SudanSpainSri LankaSudanSurinameSvalbard and Jan MayenSwedenSwitzerlandSyria Arab RepublicTaiwanTajikistanTanzania\, the United Republic ofThailandTimor-LesteTogoTokelauTongaTrinidad and TobagoTunisiaTurkmenistanTurks and Caicos IslandsTuvaluTürkiyeUS Minor Outlying IslandsUgandaUkraineUnited Arab EmiratesUnited KingdomUnited StatesUruguayUzbekistanVanuatuVenezuelaViet NamVirgin Islands\, BritishVirgin Islands\, U.S.Wallis and FutunaWestern SaharaYemenZambiaZimbabweÅland Islands\n                                        Country\n                                    \n                    \n                Would you like to make a donation?*\n			\n					\n					Yes\n			\n			\n					\n					No Thanks\n			Donation Amount\n					\n				Total\n							\n						You can pay with PayPal or a Credit Card via PayPal.How or from whom did you hear about us?*CAPTCHA\n          \n            \n            \n            \n            \n            \n            \n            \n            \n            \n            \n            \n            \n            \n        \n                        Δ
URL:https://suficentermn.org/event/divine-qualities-series/2026-07-09/
LOCATION:Online Zoom\, MN\, United States
CATEGORIES:Live Events,Ongoing Events,Online Event
ATTACH;FMTTYPE=image/jpeg:https://suficentermn.org/wp-content/uploads/2025/11/divine-qualities-series-featured-cropped-1200.jpg
ORGANIZER;CN="Habiba Laila Lauren Smith":MAILTO:administration@suficentermn.org
END:VEVENT
END:VCALENDAR