BEGIN:VCALENDAR
VERSION:2.0
PRODID:-//Sufi Center Minnesota - ECPv6.15.18//NONSGML v1.0//EN
CALSCALE:GREGORIAN
METHOD:PUBLISH
X-WR-CALNAME:Sufi Center Minnesota
X-ORIGINAL-URL:https://suficentermn.org
X-WR-CALDESC:Events for Sufi Center Minnesota
REFRESH-INTERVAL;VALUE=DURATION:PT1H
X-Robots-Tag:noindex
X-PUBLISHED-TTL:PT1H
BEGIN:VTIMEZONE
TZID:America/Chicago
BEGIN:DAYLIGHT
TZOFFSETFROM:-0600
TZOFFSETTO:-0500
TZNAME:CDT
DTSTART:20250309T080000
END:DAYLIGHT
BEGIN:STANDARD
TZOFFSETFROM:-0500
TZOFFSETTO:-0600
TZNAME:CST
DTSTART:20251102T070000
END:STANDARD
BEGIN:DAYLIGHT
TZOFFSETFROM:-0600
TZOFFSETTO:-0500
TZNAME:CDT
DTSTART:20260308T080000
END:DAYLIGHT
BEGIN:STANDARD
TZOFFSETFROM:-0500
TZOFFSETTO:-0600
TZNAME:CST
DTSTART:20261101T070000
END:STANDARD
BEGIN:DAYLIGHT
TZOFFSETFROM:-0600
TZOFFSETTO:-0500
TZNAME:CDT
DTSTART:20270314T080000
END:DAYLIGHT
BEGIN:STANDARD
TZOFFSETFROM:-0500
TZOFFSETTO:-0600
TZNAME:CST
DTSTART:20271107T070000
END:STANDARD
END:VTIMEZONE
BEGIN:VEVENT
DTSTART;TZID=America/Chicago:20260323T100000
DTEND;TZID=America/Chicago:20260323T110000
DTSTAMP:20260422T141248
CREATED:20241113T222324Z
LAST-MODIFIED:20241113T222424Z
UID:10003268-1774260000-1774263600@suficentermn.org
SUMMARY:A Drop of the Love
DESCRIPTION:Join us weekly for A Drop of the Love with Cindy Yasmine Rahmana Libman.\nEvery Monday from 10am – 11am Central Time \nIf you have any questions\, please email Habiba Laila at administration@suficentermn.org. We are here to be of service. \nHere is the Zoom information: \nhttps://us06web.zoom.us/j/83221097720?pwd=gWflGt6WHcy23OqjSRWljd6DzEdaBE.1\nMeeting ID: 832 2109 7720\nPasscode: 494287
URL:https://suficentermn.org/event/a-drop-of-the-love/2026-03-23/
LOCATION:Online Zoom\, MN\, United States
CATEGORIES:Ongoing Events,Online Event
ATTACH;FMTTYPE=image/jpeg:https://suficentermn.org/wp-content/uploads/2024/11/Banner-A-Drop-of-Love.jpg
ORGANIZER;CN="Cindy Yasmine Libman":MAILTO:cindylib2@aol.com
END:VEVENT
BEGIN:VEVENT
DTSTART;TZID=America/Chicago:20260322T170000
DTEND;TZID=America/Chicago:20260322T174500
DTSTAMP:20260422T141248
CREATED:20250506T010202Z
LAST-MODIFIED:20250506T010202Z
UID:10004922-1774198800-1774201500@suficentermn.org
SUMMARY:Dhikr
DESCRIPTION:Sufi Healing Circle (dhikr)				\n				\n				\n				\n									A Sufi healing circle\, also known as dhikr (or zikr) is a time when we gather as a community to Remember the Divine within. In dhikr\, we invoke the light of God and allow it to open\, clean and heal our body\, mind\, heart and spirit. Everyone is welcome to join these community prayer and healing events and stay for tea afterward. 								\n				\n					\n		\n					\n		\n				\n						\n					\n			\n						\n				\n									Event DetailsWhen: 5:00-5:45pm Central Time every SundayWhere: Online via ZoomCost: FREEHow to Join: Please fill in the form on this page so that we know who is attending our events. Or if you are an existing Community Member then we have listed the information on our community page.For more information: Email us at info@suficentermn.org. 								\n				\n					\n		\n				\n			\n						\n				\n					Request to attend Sufi Healing Circle (Dhikr)				\n				\n				\n				\n					\n	\n\n                \n                        CompanyThis field is for validation purposes and should be left unchanged.Name*\n                            \n                            \n                                                    \n                                                    First\n                                                \n                            \n                            \n                                                    \n                                                    Last\n                                                \n                            \n                        Email*\n                            \n                        How or from whom did you hear about us?*CAPTCHA\n          \n            \n            \n            \n            \n            \n            \n            \n            \n            \n            \n            \n            \n            \n        \n                        Δ
URL:https://suficentermn.org/event/dhikr/2026-03-22/
LOCATION:Online Zoom\, MN\, United States
ATTACH;FMTTYPE=image/jpeg:https://suficentermn.org/wp-content/uploads/2020/08/Hands-together-praying-in-brig2.jpg
END:VEVENT
END:VCALENDAR